1.0000000000
0.0000000000
0.0000000000
-1.0000000000
578093.5000000000
4581176.5000000000
