1.0000000000
0.0000000000
0.0000000000
-1.0000000000
578168.5000000000
4574237.5000000000
