1.0000000000
0.0000000000
0.0000000000
-1.0000000000
578317.5000000000
4560360.5000000000
