1.0000000000
0.0000000000
0.0000000000
-1.0000000000
578392.5000000000
4553421.5000000000
