1.0000000000
0.0000000000
0.0000000000
-1.0000000000
578467.5000000000
4546483.5000000000
