1.0000000000
0.0000000000
0.0000000000
-1.0000000000
668489.5000000000
4735547.5000000000
