1.0000000000
0.0000000000
0.0000000000
-1.0000000000
668659.5000000000
4728607.5000000000
