1.0000000000
0.0000000000
0.0000000000
-1.0000000000
663539.5000000000
4728480.5000000000
