1.0000000000
0.0000000000
0.0000000000
-1.0000000000
678720.5000000000
4735813.5000000000
