1.0000000000
0.0000000000
0.0000000000
-1.0000000000
684020.5000000000
4729010.5000000000
