1.0000000000
0.0000000000
0.0000000000
-1.0000000000
668828.5000000000
4721666.5000000000
