1.0000000000
0.0000000000
0.0000000000
-1.0000000000
668997.5000000000
4714726.5000000000
