1.0000000000
0.0000000000
0.0000000000
-1.0000000000
679079.5000000000
4721932.5000000000
