1.0000000000
0.0000000000
0.0000000000
-1.0000000000
684205.5000000000
4722070.5000000000
