1.0000000000
0.0000000000
0.0000000000
-1.0000000000
684389.5000000000
4715129.5000000000
