1.0000000000
0.0000000000
0.0000000000
-1.0000000000
669166.5000000000
4707785.5000000000
