1.0000000000
0.0000000000
0.0000000000
-1.0000000000
664031.5000000000
4707659.5000000000
