1.0000000000
0.0000000000
0.0000000000
-1.0000000000
669335.5000000000
4700845.5000000000
