1.0000000000
0.0000000000
0.0000000000
-1.0000000000
679438.5000000000
4708051.5000000000
