1.0000000000
0.0000000000
0.0000000000
-1.0000000000
674302.5000000000
4707916.5000000000
