1.0000000000
0.0000000000
0.0000000000
-1.0000000000
679617.5000000000
4701110.5000000000
