1.0000000000
0.0000000000
0.0000000000
-1.0000000000
674476.5000000000
4700976.5000000000
