1.0000000000
0.0000000000
0.0000000000
-1.0000000000
689709.5000000000
4708331.5000000000
