1.0000000000
0.0000000000
0.0000000000
-1.0000000000
684574.5000000000
4708189.5000000000
