1.0000000000
0.0000000000
0.0000000000
-1.0000000000
689899.5000000000
4701391.5000000000
