1.0000000000
0.0000000000
0.0000000000
-1.0000000000
699981.5000000000
4708627.5000000000
