1.0000000000
0.0000000000
0.0000000000
-1.0000000000
695039.5000000000
4701537.5000000000
