1.0000000000
0.0000000000
0.0000000000
-1.0000000000
705321.5000000000
4701840.5000000000
