1.0000000000
0.0000000000
0.0000000000
-1.0000000000
669504.5000000000
4693905.5000000000
