1.0000000000
0.0000000000
0.0000000000
-1.0000000000
664358.5000000000
4693778.5000000000
