1.0000000000
0.0000000000
0.0000000000
-1.0000000000
669672.5000000000
4686965.5000000000
