1.0000000000
0.0000000000
0.0000000000
-1.0000000000
679974.5000000000
4687230.5000000000
