1.0000000000
0.0000000000
0.0000000000
-1.0000000000
674823.5000000000
4687095.5000000000
