1.0000000000
0.0000000000
0.0000000000
-1.0000000000
690088.5000000000
4694450.5000000000
