1.0000000000
0.0000000000
0.0000000000
-1.0000000000
690276.5000000000
4687510.5000000000
