1.0000000000
0.0000000000
0.0000000000
-1.0000000000
685125.5000000000
4687368.5000000000
