1.0000000000
0.0000000000
0.0000000000
-1.0000000000
695234.5000000000
4694596.5000000000
