1.0000000000
0.0000000000
0.0000000000
-1.0000000000
700579.5000000000
4687805.5000000000
