1.0000000000
0.0000000000
0.0000000000
-1.0000000000
695427.5000000000
4687656.5000000000
