1.0000000000
0.0000000000
0.0000000000
-1.0000000000
710881.5000000000
4688116.5000000000
