1.0000000000
0.0000000000
0.0000000000
-1.0000000000
705730.5000000000
4687959.5000000000
