1.0000000000
0.0000000000
0.0000000000
-1.0000000000
715818.5000000000
4695217.5000000000
