1.0000000000
0.0000000000
0.0000000000
-1.0000000000
664684.5000000000
4679897.5000000000
