1.0000000000
0.0000000000
0.0000000000
-1.0000000000
670008.5000000000
4673084.5000000000
