1.0000000000
0.0000000000
0.0000000000
-1.0000000000
680152.5000000000
4680290.5000000000
