1.0000000000
0.0000000000
0.0000000000
-1.0000000000
675169.5000000000
4673215.5000000000
