1.0000000000
0.0000000000
0.0000000000
-1.0000000000
690465.5000000000
4680570.5000000000
