1.0000000000
0.0000000000
0.0000000000
-1.0000000000
685492.5000000000
4673488.5000000000
