1.0000000000
0.0000000000
0.0000000000
-1.0000000000
700777.5000000000
4680865.5000000000
