1.0000000000
0.0000000000
0.0000000000
-1.0000000000
695621.5000000000
4680716.5000000000
